Workbook
Name CategoriesExpense: {"room & board";"tuition & fees";"books & supplies";"transportation";"discretionary";"other expenses"}
Name CategoriesIncome: {"financial aid";"wages (after-tax)";"family help";"from savings";"other"}
Name FirstMonth: UPPER(TEXT(StartDate,"mmm "))
Name income_percent_selected_period: 'Monthly college budget'!$P$32:$P$36
Name NextMonth: UPPER(TEXT(EOMONTH(VALUE('Monthly college budget'!XFD1 & "1"),0)+1,"mmm "))
Name PercentsExpense: 'Monthly college budget'!$P$40,'Monthly college budget'!$P$45,'Monthly college budget'!$P$49,'Monthly college budget'!$P$53,'Monthly college budget'!$P$59,'Monthly college budget'!$P$67
Name PercentsIncome: 'Monthly college budget'!$P$32:$P$36
Name Periods: 'Monthly college budget'!$C$27:$O$27
Name ScrollBarValue: chart_calcs!$D$13
Name SelectedPeriod: INDEX(Periods,,ScrollBarValue)
Name SelectedPeriodCashFlowNegative: INDEX('Monthly college budget'!$C$28:$O$28,,SelectedPeriodColumn) * NOT(SelectedPeriodIsFunded)
Name SelectedPeriodCashFlowNegative_Mirror: CHOOSE({1,2,3},0,SelectedPeriodCashFlowNegative,-(MAX(ABS(SelectedPeriodCashFlowNegative),SelectedPeriodCashFlowPositive)))
Name SelectedPeriodCashFlowPositive: INDEX('Monthly college budget'!$C$28:$O$28,,SelectedPeriodColumn) * SelectedPeriodIsFunded
Name SelectedPeriodCashFlowPositive_Mirror: CHOOSE({1,2,3},0,SelectedPeriodCashFlowPositive,(MAX(ABS(SelectedPeriodCashFlowNegative),SelectedPeriodCashFlowPositive)))
Name SelectedPeriodColumn: MATCH(SelectedPeriod,Periods,0)
Name SelectedPeriodIsFunded: INDEX('Monthly college budget'!$C$37:$O$37,,SelectedPeriodColumn)>=INDEX('Monthly college budget'!$C$72:$O$72,,SelectedPeriodColumn)
Name SelectedStartMonth: 'Monthly college budget'!$B$25
Name StartDate: DATEVALUE("1-"&SelectedStartMonth&"-" &YEAR(TODAY()))

Sheet Monthly college budget
B1: Monthly college budget | Q1: {=""}
B4: =chart_calcs!$D$6 -> january income: | E4: =chart_calcs!$D$7 -> january expenses: | M4: =chart_calcs!$D$8 -> january cash flow:
B5: =" "&chart_calcs!$F$6 -> $1,225 | E5: =" "&chart_calcs!$F$7 -> $1,056 | M5: =" "&chart_calcs!$F$8 -> $169
B25: JAN
P26: =SelectedPeriod -> JAN
B27: Monthly Cash After Expense | C27: =FirstMonth -> JAN | D27: =NextMonth -> FEB | E27: =NextMonth -> MAR | F27: =NextMonth -> APR | G27: =NextMonth -> MAY | H27: =NextMonth -> JUN | I27: =NextMonth -> JUL | J27: =NextMonth -> AUG | K27: =NextMonth -> SEP | ... N27: =NextMonth -> DEC | O27: YEAR | P27: % INC
B28: Cash flow | C28: =C37-C72 -> 169 | D28: =D37-D72 -> 69 | E28: =E37-E72 -> 192 | F28: =F37-F72 -> 199 | G28: =G37-G72 -> 204 | H28: =H37-H72 -> -771 | I28: =I37-I72 -> 124 | J28: =J37-J72 -> 154 | ... N28: =N37-N72 -> -61 | O28: =SUM(C28:N28) -> -299 | P28: =INDEX($C28:$O28,,SelectedPeriodColumn)/INDEX($C$37:$O$37,,SelectedPeriodColumn) -> 0.13795918
B29: Cumulative cash flow | C29: =SUM($C$28:C$28) -> 169 | D29: =SUM($C$28:D$28) -> 238 | E29: =SUM($C$28:E$28) -> 430 | F29: =SUM($C$28:F$28) -> 629 | G29: =SUM($C$28:G$28) -> 833 | H29: =SUM($C$28:H$28) -> 62 | I29: =SUM($C$28:I$28) -> 186 | J29: =SUM($C$28:J$28) -> 340 | ... N29: =SUM($C$28:N$28) -> -299
B31: MONTHLY INCOME | C31: =FirstMonth -> JAN | D31: =NextMonth -> FEB | E31: =NextMonth -> MAR | F31: =NextMonth -> APR | G31: =NextMonth -> MAY | H31: =NextMonth -> JUN | I31: =NextMonth -> JUL | J31: =NextMonth -> AUG | K31: =NextMonth -> SEP | ... N31: =NextMonth -> DEC | O31: YEAR | P31: % INC
B32: Financial aid (grants, scholarships, loans) paid to you | C32: 0 | D32: 0 | E32: 750 | F32: 750 | G32: 750 | H32: 750 | I32: 750 | J32: 750 | K32: 750 | L32: 750 | M32: 750 | N32: 750 | O32: =SUM(C32:N32) -> 7500 | P32: =INDEX($C32:$O32,,SelectedPeriodColumn)/INDEX($C$37:$O$37,,SelectedPeriodColumn) -> 0
B33: After-tax wages from a job | C33: 450 | D33: 450 | E33: 450 | F33: 450 | G33: 450 | H33: 450 | I33: 450 | J33: 450 | K33: 550 | L33: 350 | M33: 350 | N33: 350 | O33: =SUM(C33:N33) -> 5200 | P33: =INDEX($C33:$O33,,SelectedPeriodColumn)/INDEX($C$37:$O$37,,SelectedPeriodColumn) -> 0.36734694
B34: Financial help from family | C34: 200 | D34: 200 | E34: 1000 | F34: 350 | G34: 350 | H34: 350 | I34: 350 | J34: 350 | K34: 350 | L34: 350 | M34: 350 | N34: 350 | O34: =SUM(C34:N34) -> 4550 | P34: =INDEX($C34:$O34,,SelectedPeriodColumn)/INDEX($C$37:$O$37,,SelectedPeriodColumn) -> 0.16326531
B35: Withdrawals from savings | C35: 500 | D35: 350 | E35: 150 | F35: 0 | G35: 0 | H35: 0 | I35: 0 | J35: 0 | K35: 0 | L35: 0 | M35: 0 | N35: 0 | O35: =SUM(C35:N35) -> 1000 | P35: =INDEX($C35:$O35,,SelectedPeriodColumn)/INDEX($C$37:$O$37,,SelectedPeriodColumn) -> 0.40816327
B36: Other (child support, public assistance, gifts, etc.) | C36: 75 | D36: 75 | E36: 75 | F36: 75 | G36: 75 | H36: 75 | I36: 75 | J36: 75 | K36: 75 | L36: 75 | M36: 75 | N36: 75 | O36: =SUM(C36:N36) -> 900 | P36: =INDEX($C36:$O36,,SelectedPeriodColumn)/INDEX($C$37:$O$37,,SelectedPeriodColumn) -> 0.06122449
B37: TOTAL INCOME | C37: =SUM(C32:C36) -> 1225 | D37: =SUM(D32:D36) -> 1075 | E37: =SUM(E32:E36) -> 2425 | F37: =SUM(F32:F36) -> 1625 | G37: =SUM(G32:G36) -> 1625 | H37: =SUM(H32:H36) -> 1625 | I37: =SUM(I32:I36) -> 1625 | J37: =SUM(J32:J36) -> 1625 | ... N37: =SUM(N32:N36) -> 1525 | O37: =SUM(C37:N37) -> 19150 | P37: =INDEX($C37:$O37,,SelectedPeriodColumn)/INDEX($C$37:$O$37,,SelectedPeriodColumn) -> 1
B39: MONTHLY EXPENSE | C39: =FirstMonth -> JAN | D39: =NextMonth -> FEB | E39: =NextMonth -> MAR | F39: =NextMonth -> APR | G39: =NextMonth -> MAY | H39: =NextMonth -> JUN | I39: =NextMonth -> JUL | J39: =NextMonth -> AUG | K39: =NextMonth -> SEP | ... N39: =NextMonth -> DEC | O39: YEAR | P39: % INC
B40: Room & board | C40: =SUM(C41:C43) -> 565 | D40: =SUM(D41:D43) -> 565 | E40: =SUM(E41:E43) -> 565 | F40: =SUM(F41:F43) -> 565 | G40: =SUM(G41:G43) -> 565 | H40: =SUM(H41:H43) -> 565 | I40: =SUM(I41:I43) -> 565 | J40: =SUM(J41:J43) -> 565 | ... N40: =SUM(N41:N43) -> 565 | O40: =SUM(C40:N40) -> 6780 | P40: =INDEX($C40:$O40,,SelectedPeriodColumn)/INDEX($C$72:$O$72,,SelectedPeriodColumn) -> 0.53503788
C41: 315 | D41: 315 | E41: 315 | F41: 315 | G41: 315 | H41: 315 | I41: 315 | J41: 315 | K41: 315 | L41: 315 | M41: 315 | N41: 315 | O41: =SUM(C41:N41) -> 3780 | P41: =INDEX($C41:$O41,,SelectedPeriodColumn)/INDEX($C$72:$O$72,,SelectedPeriodColumn) -> 0.29829545
C42: 200 | D42: 200 | E42: 200 | F42: 200 | G42: 200 | H42: 200 | I42: 200 | J42: 200 | K42: 200 | L42: 200 | M42: 200 | N42: 200 | O42: =SUM(C42:N42) -> 2400 | P42: =INDEX($C42:$O42,,SelectedPeriodColumn)/INDEX($C$72:$O$72,,SelectedPeriodColumn) -> 0.18939394
C43: 50 | D43: 50 | E43: 50 | F43: 50 | G43: 50 | H43: 50 | I43: 50 | J43: 50 | K43: 50 | L43: 50 | M43: 50 | N43: 50 | O43: =SUM(C43:N43) -> 600 | P43: =INDEX($C43:$O43,,SelectedPeriodColumn)/INDEX($C$72:$O$72,,SelectedPeriodColumn) -> 0.047348485
B45: Tuition & fees | C45: =SUM(C46:C47) -> 0 | D45: =SUM(D46:D47) -> 0 | E45: =SUM(E46:E47) -> 750 | F45: =SUM(F46:F47) -> 0 | G45: =SUM(G46:G47) -> 0 | H45: =SUM(H46:H47) -> 650 | I45: =SUM(I46:I47) -> 0 | J45: =SUM(J46:J47) -> 0 | ... N45: =SUM(N46:N47) -> 0 | O45: =SUM(C45:N45) -> 2050 | P45: =INDEX($C45:$O45,,SelectedPeriodColumn)/INDEX($C$72:$O$72,,SelectedPeriodColumn) -> 0
C46: 0 | D46: 0 | E46: 500 | F46: 0 | G46: 0 | H46: 500 | I46: 0 | J46: 0 | K46: 500 | L46: 0 | M46: 0 | N46: 0 | O46: =SUM(C46:N46) -> 1500 | P46: =INDEX($C46:$O46,,SelectedPeriodColumn)/INDEX($C$72:$O$72,,SelectedPeriodColumn) -> 0
C47: 0 | D47: 0 | E47: 250 | F47: 0 | G47: 0 | H47: 150 | I47: 0 | J47: 0 | K47: 150 | L47: 0 | M47: 0 | N47: 0 | O47: =SUM(C47:N47) -> 550 | P47: =INDEX($C47:$O47,,SelectedPeriodColumn)/INDEX($C$72:$O$72,,SelectedPeriodColumn) -> 0
B49: Books & Supplies | C49: =SUM(C50:C51) -> 0 | D49: =SUM(D50:D51) -> 0 | E49: =SUM(E50:E51) -> 325 | F49: =SUM(F50:F51) -> 20 | G49: =SUM(G50:G51) -> 20 | H49: =SUM(H50:H51) -> 325 | I49: =SUM(I50:I51) -> 10 | J49: =SUM(J50:J51) -> 10 | ... N49: =SUM(N50:N51) -> 15 | O49: =SUM(C49:N49) -> 1155 | P49: =INDEX($C49:$O49,,SelectedPeriodColumn)/INDEX($C$72:$O$72,,SelectedPeriodColumn) -> 0
C50: 0 | D50: 0 | E50: 225 | F50: 0 | G50: 0 | H50: 275 | I50: 0 | J50: 0 | K50: 325 | L50: 0 | M50: 0 | N50: 0 | O50: =SUM(C50:N50) -> 825 | P50: =INDEX($C50:$O50,,SelectedPeriodColumn)/INDEX($C$72:$O$72,,SelectedPeriodColumn) -> 0
C51: 0 | D51: 0 | E51: 100 | F51: 20 | G51: 20 | H51: 50 | I51: 10 | J51: 10 | K51: 75 | L51: 15 | M51: 15 | N51: 15 | O51: =SUM(C51:N51) -> 330 | P51: =INDEX($C51:$O51,,SelectedPeriodColumn)/INDEX($C$72:$O$72,,SelectedPeriodColumn) -> 0
B53: Transportation | C53: =SUM(C54:C57) -> 224 | D53: =SUM(D54:D57) -> 174 | E53: =SUM(E54:E57) -> 174 | F53: =SUM(F54:F57) -> 219 | G53: =SUM(G54:G57) -> 174 | H53: =SUM(H54:H57) -> 174 | I53: =SUM(I54:I57) -> 274 | J53: =SUM(J54:J57) -> 219 | ... N53: =SUM(N54:N57) -> 269 | O53: =SUM(C53:N53) -> 2473 | P53: =INDEX($C53:$O53,,SelectedPeriodColumn)/INDEX($C$72:$O$72,,SelectedPeriodColumn) -> 0.21212121
C54: 30 | D54: 30 | E54: 30 | F54: 75 | G54: 30 | H54: 30 | I54: 30 | J54: 75 | K54: 30 | L54: 30 | M54: 30 | N54: 75 | O54: =SUM(C54:N54) -> 495 | P54: =INDEX($C54:$O54,,SelectedPeriodColumn)/INDEX($C$72:$O$72,,SelectedPeriodColumn) -> 0.028409091
C55: 129 | D55: 129 | E55: 129 | F55: 129 | G55: 129 | H55: 129 | I55: 129 | J55: 129 | K55: 129 | L55: 129 | M55: 129 | N55: 129 | O55: =SUM(C55:N55) -> 1548 | P55: =INDEX($C55:$O55,,SelectedPeriodColumn)/INDEX($C$72:$O$72,,SelectedPeriodColumn) -> 0.12215909
C56: 15 | D56: 15 | E56: 15 | F56: 15 | G56: 15 | H56: 15 | I56: 15 | J56: 15 | K56: 15 | L56: 15 | M56: 15 | N56: 15 | O56: =SUM(C56:N56) -> 180 | P56: =INDEX($C56:$O56,,SelectedPeriodColumn)/INDEX($C$72:$O$72,,SelectedPeriodColumn) -> 0.014204545
C57: 50 | D57: 0 | E57: 0 | F57: 0 | G57: 0 | H57: 0 | I57: 100 | J57: 0 | K57: 0 | L57: 0 | M57: 50 | N57: 50 | O57: =SUM(C57:N57) -> 250 | P57: =INDEX($C57:$O57,,SelectedPeriodColumn)/INDEX($C$72:$O$72,,SelectedPeriodColumn) -> 0.047348485
B59: Discretionary | C59: =SUM(C60:C65) -> 69 | D59: =SUM(D60:D65) -> 69 | E59: =SUM(E60:E65) -> 169 | F59: =SUM(F60:F65) -> 369 | G59: =SUM(G60:G65) -> 419 | H59: =SUM(H60:H65) -> 444 | I59: =SUM(I60:I65) -> 419 | J59: =SUM(J60:J65) -> 419 | ... N59: =SUM(N60:N65) -> 469 | O59: =SUM(C59:N59) -> 4053 | P59: =INDEX($C59:$O59,,SelectedPeriodColumn)/INDEX($C$72:$O$72,,SelectedPeriodColumn) -> 0.065340909
C60: 0 | D60: 0 | E60: 0 | F60: 50 | G60: 100 | H60: 100 | I60: 100 | J60: 100 | K60: 75 | L60: 75 | M60: 100 | N60: 100 | O60: =SUM(C60:N60) -> 800 | P60: =INDEX($C60:$O60,,SelectedPeriodColumn)/INDEX($C$72:$O$72,,SelectedPeriodColumn) -> 0
C61: 69 | D61: 69 | E61: 69 | F61: 69 | G61: 69 | H61: 69 | I61: 69 | J61: 69 | K61: 69 | L61: 69 | M61: 69 | N61: 69 | O61: =SUM(C61:N61) -> 828 | P61: =INDEX($C61:$O61,,SelectedPeriodColumn)/INDEX($C$72:$O$72,,SelectedPeriodColumn) -> 0.065340909
C62: 0 | D62: 0 | E62: 0 | F62: 0 | G62: 0 | H62: 25 | I62: 0 | J62: 0 | K62: 0 | L62: 0 | M62: 0 | N62: 50 | O62: =SUM(C62:N62) -> 75 | P62: =INDEX($C62:$O62,,SelectedPeriodColumn)/INDEX($C$72:$O$72,,SelectedPeriodColumn) -> 0
C63: 0 | D63: 0 | E63: 100 | F63: 100 | G63: 100 | H63: 100 | I63: 100 | J63: 100 | K63: 100 | L63: 100 | M63: 100 | N63: 100 | O63: =SUM(C63:N63) -> 1000 | P63: =INDEX($C63:$O63,,SelectedPeriodColumn)/INDEX($C$72:$O$72,,SelectedPeriodColumn) -> 0
C64: 0 | D64: 0 | E64: 0 | F64: 50 | G64: 50 | H64: 50 | I64: 50 | J64: 50 | K64: 50 | L64: 50 | M64: 50 | N64: 50 | O64: =SUM(C64:N64) -> 450 | P64: =INDEX($C64:$O64,,SelectedPeriodColumn)/INDEX($C$72:$O$72,,SelectedPeriodColumn) -> 0
C65: 0 | D65: 0 | E65: 0 | F65: 100 | G65: 100 | H65: 100 | I65: 100 | J65: 100 | K65: 100 | L65: 100 | M65: 100 | N65: 100 | O65: =SUM(C65:N65) -> 900 | P65: =INDEX($C65:$O65,,SelectedPeriodColumn)/INDEX($C$72:$O$72,,SelectedPeriodColumn) -> 0
B67: Other expenses | C67: =SUM(C68:C70) -> 198 | D67: =SUM(D68:D70) -> 198 | E67: =SUM(E68:E70) -> 250 | F67: =SUM(F68:F70) -> 253 | G67: =SUM(G68:G70) -> 243 | H67: =SUM(H68:H70) -> 238 | I67: =SUM(I68:I70) -> 233 | J67: =SUM(J68:J70) -> 258 | ... N67: =SUM(N68:N70) -> 268 | O67: =SUM(C67:N67) -> 2938 | P67: =INDEX($C67:$O67,,SelectedPeriodColumn)/INDEX($C$72:$O$72,,SelectedPeriodColumn) -> 0.1875
C68: 123 | D68: 123 | E68: 123 | F68: 123 | G68: 123 | H68: 123 | I68: 123 | J68: 123 | K68: 123 | L68: 123 | M68: 123 | N68: 123 | O68: =SUM(C68:N68) -> 1476 | P68: =INDEX($C68:$O68,,SelectedPeriodColumn)/INDEX($C$72:$O$72,,SelectedPeriodColumn) -> 0.11647727
...

Sheet chart_calcs
A1: ***This sheet should remain HIDDEN***
D3: =IFERROR(LOWER(TEXT(VALUE(SelectedPeriod&" 1"),"mmmm")),"year") -> january
D5: Dynamic Chart Titles
D6: =D3&" income:" -> january income: | F6: =TEXT(INDEX('Monthly college budget'!$C$37:$O$37,,SelectedPeriodColumn),"$#,###") -> $1,225
D7: =D3&" expenses:" -> january expenses: | F7: =TEXT(INDEX('Monthly college budget'!$C$72:$O$72,,SelectedPeriodColumn),"$#,###") -> $1,056
D8: =D3&" cash flow:" -> january cash flow: | E8: =INDEX('Monthly college budget'!C28:O28,ScrollBarValue) -> 169 | F8: =TEXT(E8,"$#,###") -> $169
D12: =LOWER('Monthly college budget'!C27) -> jan | E12: =LOWER('Monthly college budget'!D27) -> feb | F12: =LOWER('Monthly college budget'!E27) -> mar | G12: =LOWER('Monthly college budget'!F27) -> apr | H12: =LOWER('Monthly college budget'!G27) -> may | I12: =LOWER('Monthly college budget'!H27) -> jun | J12: =LOWER('Monthly college budget'!I27) -> jul | K12: =LOWER('Monthly college budget'!J27) -> aug | ... P12: =LOWER('Monthly college budget'!O27) -> year
C13: Scroll Bar Value: | D13: 1
C14: Cash Flow Chart: | D14: =IF(SelectedPeriod='Monthly college budget'!C$31,IF('Monthly college budget'!$C$28:$O$28>=0,'Monthly college budget'!$C$28:$O$28,NA()),NA()) -> 69 | E14: =IF(SelectedPeriod='Monthly college budget'!D$31,IF('Monthly college budget'!$C$28:$O$28>=0,'Monthly college budget'!$C$28:$O$28,NA()),NA()) -> #N/A | F14: =IF(SelectedPeriod='Monthly college budget'!E$31,IF('Monthly college budget'!$C$28:$O$28>=0,'Monthly college budget'!$C$28:$O$28,NA()),NA()) -> #N/A | G14: =IF(SelectedPeriod='Monthly college budget'!F$31,IF('Monthly college budget'!$C$28:$O$28>=0,'Monthly college budget'!$C$28:$O$28,NA()),NA()) -> #N/A | H14: =IF(SelectedPeriod='Monthly college budget'!G$31,IF('Monthly college budget'!$C$28:$O$28>=0,'Monthly college budget'!$C$28:$O$28,NA()),NA()) -> #N/A | I14: =IF(SelectedPeriod='Monthly college budget'!H$31,IF('Monthly college budget'!$C$28:$O$28>=0,'Monthly college budget'!$C$28:$O$28,NA()),NA()) -> #N/A | J14: =IF(SelectedPeriod='Monthly college budget'!I$31,IF('Monthly college budget'!$C$28:$O$28>=0,'Monthly college budget'!$C$28:$O$28,NA()),NA()) -> #N/A | K14: =IF(SelectedPeriod='Monthly college budget'!J$31,IF('Monthly college budget'!$C$28:$O$28>=0,'Monthly college budget'!$C$28:$O$28,NA()),NA()) -> #N/A | ... P14: =IF(SelectedPeriod='Monthly college budget'!O$31,IF('Monthly college budget'!$C$28:$O$28>=0,'Monthly college budget'!$C$28:$O$28,NA()),NA()) -> #N/A
C15: Cumulative: | D15: =IF(SelectedPeriod='Monthly college budget'!C$31,IF('Monthly college budget'!$C$28:$O$28<0,'Monthly college budget'!$C$28:$O$28,NA()),NA()) -> #N/A | E15: =IF(SelectedPeriod='Monthly college budget'!D$31,IF('Monthly college budget'!$C$28:$O$28<0,'Monthly college budget'!$C$28:$O$28,NA()),NA()) -> #N/A | F15: =IF(SelectedPeriod='Monthly college budget'!E$31,IF('Monthly college budget'!$C$28:$O$28<0,'Monthly college budget'!$C$28:$O$28,NA()),NA()) -> #N/A | G15: =IF(SelectedPeriod='Monthly college budget'!F$31,IF('Monthly college budget'!$C$28:$O$28<0,'Monthly college budget'!$C$28:$O$28,NA()),NA()) -> #N/A | H15: =IF(SelectedPeriod='Monthly college budget'!G$31,IF('Monthly college budget'!$C$28:$O$28<0,'Monthly college budget'!$C$28:$O$28,NA()),NA()) -> #N/A | I15: =IF(SelectedPeriod='Monthly college budget'!H$31,IF('Monthly college budget'!$C$28:$O$28<0,'Monthly college budget'!$C$28:$O$28,NA()),NA()) -> #N/A | J15: =IF(SelectedPeriod='Monthly college budget'!I$31,IF('Monthly college budget'!$C$28:$O$28<0,'Monthly college budget'!$C$28:$O$28,NA()),NA()) -> #N/A | K15: =IF(SelectedPeriod='Monthly college budget'!J$31,IF('Monthly college budget'!$C$28:$O$28<0,'Monthly college budget'!$C$28:$O$28,NA()),NA()) -> #N/A | ... P15: =IF(SelectedPeriod='Monthly college budget'!O$31,IF('Monthly college budget'!$C$28:$O$28<0,'Monthly college budget'!$C$28:$O$28,NA()),NA()) -> #N/A
C18: INCOME CHART DATA
C19: Financial aid (grants, scholarships, loans) paid to you | D19: ='Monthly college budget'!P32 -> 0
C20: After tax wages from a job | D20: ='Monthly college budget'!P33 -> 0.36734694
C21: Financial help from family | D21: ='Monthly college budget'!P34 -> 0.16326531
C22: Withdrawals from savings | D22: ='Monthly college budget'!P35 -> 0.40816327
C23: Other (child support, public assistance, gifts, etc.) | D23: ='Monthly college budget'!P36 -> 0.06122449
